BEGIN:VCALENDAR
VERSION:2.0
PRODID:-//TKapow - ECPv6.15.20//NONSGML v1.0//EN
CALSCALE:GREGORIAN
METHOD:PUBLISH
X-ORIGINAL-URL:https://tkapow.com
X-WR-CALDESC:Events for TKapow
REFRESH-INTERVAL;VALUE=DURATION:PT1H
X-Robots-Tag:noindex
X-PUBLISHED-TTL:PT1H
BEGIN:VTIMEZONE
TZID:UTC
BEGIN:STANDARD
TZOFFSETFROM:+0000
TZOFFSETTO:+0000
TZNAME:UTC
DTSTART:20250101T000000
END:STANDARD
END:VTIMEZONE
BEGIN:VEVENT
DTSTART;TZID=UTC:20260321T100000
DTEND;TZID=UTC:20260321T120000
DTSTAMP:20260424T200547
CREATED:20260217T210142Z
LAST-MODIFIED:20260311T185702Z
UID:10000084-1774087200-1774094400@tkapow.com
SUMMARY:March 2026 Open Training: Image\, Sound\, Movement
DESCRIPTION:Register\n			\n			\n				\n				\n				\n				\n				\n				\n				\n				\n				\n				A recipe: Start with shape\, color\, texture\, and light. Mix in sound\, maybe a little voice. Now move all of it.  What can you create? What adjustments can you make and how do they change the story you are telling? Join company member Carey Cahoon for a morning of some creative exploration using available objects\, simple sound and light\, and the bodies in the studio.  We’ll find inspiration from a text  will be working with in just a few months.  \nEnjoy a morning of exploration and creativity! \n			\n			\n				\n				\n				\n				\n			\n				\n				\n				\n				\n				\n				\n				\n				\n				\n				\n				Training is an integral part of theatre KAPOW’s work: acting\, movement\, improvisation\, voice\, speech\, object work\, viewpoints\, and more. Company members have trained with Double Edge Theatre Company\, the Michael Chekhov Studio\, Shakespeare & Company\, The Atlantic Acting School and SITI Company\, and draw on these techniques and methods for their work. \nTraining is open to everyone 16 and older\, with any level of experience or none. Participants should come comfortably dressed to move (no jeans). Arrive 15 minutes early to check in and stretch. \nWater bottle recommended! Pay what you will! \n			\n				Register
URL:https://tkapow.com/event/march-2026-open-training-2/
LOCATION:tKAPOW Studio\, 66 Hanover Street Suite 101\, Manchester\, NH\, 03101\, United States
CATEGORIES:trainings
ATTACH;FMTTYPE=image/png:https://tkapow.com/wp-content/uploads/2026/03/March26-open-training.png
END:VEVENT
END:VCALENDAR